BEGIN:VCALENDAR
VERSION:2.0
PRODID:-//Golden Heart Transition - ECPv6.15.20//NONSGML v1.0//EN
CALSCALE:GREGORIAN
METHOD:PUBLISH
X-ORIGINAL-URL:https://goldenhearttransition.com
X-WR-CALDESC:Events for Golden Heart Transition
REFRESH-INTERVAL;VALUE=DURATION:PT1H
X-Robots-Tag:noindex
X-PUBLISHED-TTL:PT1H
BEGIN:VTIMEZONE
TZID:America/Denver
BEGIN:DAYLIGHT
TZOFFSETFROM:-0700
TZOFFSETTO:-0600
TZNAME:MDT
DTSTART:20230312T090000
END:DAYLIGHT
BEGIN:STANDARD
TZOFFSETFROM:-0600
TZOFFSETTO:-0700
TZNAME:MST
DTSTART:20231105T080000
END:STANDARD
BEGIN:DAYLIGHT
TZOFFSETFROM:-0700
TZOFFSETTO:-0600
TZNAME:MDT
DTSTART:20240310T090000
END:DAYLIGHT
BEGIN:STANDARD
TZOFFSETFROM:-0600
TZOFFSETTO:-0700
TZNAME:MST
DTSTART:20241103T080000
END:STANDARD
BEGIN:DAYLIGHT
TZOFFSETFROM:-0700
TZOFFSETTO:-0600
TZNAME:MDT
DTSTART:20250309T090000
END:DAYLIGHT
BEGIN:STANDARD
TZOFFSETFROM:-0600
TZOFFSETTO:-0700
TZNAME:MST
DTSTART:20251102T080000
END:STANDARD
BEGIN:DAYLIGHT
TZOFFSETFROM:-0700
TZOFFSETTO:-0600
TZNAME:MDT
DTSTART:20260308T090000
END:DAYLIGHT
BEGIN:STANDARD
TZOFFSETFROM:-0600
TZOFFSETTO:-0700
TZNAME:MST
DTSTART:20261101T080000
END:STANDARD
END:VTIMEZONE
BEGIN:VEVENT
DTSTART;TZID=America/Denver:20250406T150000
DTEND;TZID=America/Denver:20250406T163000
DTSTAMP:20260421T063256
CREATED:20250209T023133Z
LAST-MODIFIED:20250209T023133Z
UID:10000151-1743951600-1743957000@goldenhearttransition.com
SUMMARY:Golden Death Café
DESCRIPTION:Enjoy deep\, rich\, compassionate\, free and open conversations about death and dying\, \nalong with a great cup of coffee or tea & delicious fresh pastry!
URL:https://goldenhearttransition.com/class/golden-death-cafe-11/
LOCATION:Bean Fosters\, 720 Golden Ridge Rd\, Ste D\, Golden\, CO\, 80401\, United States
ATTACH;FMTTYPE=image/png:https://goldenhearttransition.com/wp-content/uploads/2024/05/Golden-Death-Cafe-FB.png
ORGANIZER;CN="Karen S Keeran":MAILTO:karenk@goldenhearttransition.com
END:VEVENT
BEGIN:VEVENT
DTSTART;TZID=America/Denver:20250316T150000
DTEND;TZID=America/Denver:20250316T163000
DTSTAMP:20260421T063256
CREATED:20250525T231154Z
LAST-MODIFIED:20250525T231901Z
UID:10000255-1742137200-1742142600@goldenhearttransition.com
SUMMARY:Wheat Ridge Death Café
DESCRIPTION:Enjoy deep\, rich\, compassionate\, free and open conversations about death and dying\, \nalong with a hot cup of coffee or tea & snacks!
URL:https://goldenhearttransition.com/class/wheat-ridge-death-cafe-3/
LOCATION:Be A Tree\, 3720 Pierce St\, Wheat Ridge\, CO\, 80033\, United States
ATTACH;FMTTYPE=image/png:https://goldenhearttransition.com/wp-content/uploads/2025/05/LandscapeOrgBckgrnd-no-blurb_Every3rdSunday_940x788.png
ORGANIZER;CN="Karen S Keeran":MAILTO:karenk@goldenhearttransition.com
END:VEVENT
BEGIN:VEVENT
DTSTART;TZID=America/Denver:20250302T150000
DTEND;TZID=America/Denver:20250302T163000
DTSTAMP:20260421T063256
CREATED:20241224T071719Z
LAST-MODIFIED:20241224T071719Z
UID:10000149-1740927600-1740933000@goldenhearttransition.com
SUMMARY:Golden Death Café
DESCRIPTION:Enjoy deep\, rich\, compassionate\, free and open conversations about death and dying\, \nalong with a great cup of coffee or tea & delicious fresh pastry!
URL:https://goldenhearttransition.com/class/golden-death-cafe-10/
LOCATION:Bean Fosters\, 720 Golden Ridge Rd\, Ste D\, Golden\, CO\, 80401\, United States
ATTACH;FMTTYPE=image/png:https://goldenhearttransition.com/wp-content/uploads/2024/05/Golden-Death-Cafe-FB.png
ORGANIZER;CN="Karen S Keeran":MAILTO:karenk@goldenhearttransition.com
END:VEVENT
BEGIN:VEVENT
DTSTART;TZID=America/Denver:20250202T150000
DTEND;TZID=America/Denver:20250202T163000
DTSTAMP:20260421T063256
CREATED:20241224T071309Z
LAST-MODIFIED:20241224T071309Z
UID:10000148-1738508400-1738513800@goldenhearttransition.com
SUMMARY:Golden Death Café
DESCRIPTION:Enjoy deep\, rich\, compassionate\, free and open conversations about death and dying\, \nalong with a great cup of coffee or tea & delicious fresh pastry!
URL:https://goldenhearttransition.com/class/golden-death-cafe-9/
LOCATION:Bean Fosters\, 720 Golden Ridge Rd\, Ste D\, Golden\, CO\, 80401\, United States
ATTACH;FMTTYPE=image/png:https://goldenhearttransition.com/wp-content/uploads/2024/05/Golden-Death-Cafe-FB.png
ORGANIZER;CN="Karen S Keeran":MAILTO:karenk@goldenhearttransition.com
END:VEVENT
BEGIN:VEVENT
DTSTART;TZID=America/Denver:20250105T150000
DTEND;TZID=America/Denver:20250105T163000
DTSTAMP:20260421T063256
CREATED:20241224T070419Z
LAST-MODIFIED:20241224T070419Z
UID:10000147-1736089200-1736094600@goldenhearttransition.com
SUMMARY:Golden Death Café
DESCRIPTION:Enjoy deep\, rich\, compassionate\, free and open conversations about death and dying\, \nalong with a great cup of coffee or tea & delicious fresh pastry!
URL:https://goldenhearttransition.com/class/golden-death-cafe-8/
LOCATION:Bean Fosters\, 720 Golden Ridge Rd\, Ste D\, Golden\, CO\, 80401\, United States
ATTACH;FMTTYPE=image/png:https://goldenhearttransition.com/wp-content/uploads/2024/05/Golden-Death-Cafe-FB.png
ORGANIZER;CN="Karen S Keeran":MAILTO:karenk@goldenhearttransition.com
END:VEVENT
BEGIN:VEVENT
DTSTART;TZID=America/Denver:20241215T130000
DTEND;TZID=America/Denver:20241215T160000
DTSTAMP:20260421T063256
CREATED:20241122T072921Z
LAST-MODIFIED:20241125T234915Z
UID:10000146-1734267600-1734278400@goldenhearttransition.com
SUMMARY:The Grieving Lotus @ the Holidays
DESCRIPTION:Please join us for this Special Holiday Event to create a Sacred Space of Honor & Connection!\n* Come Early for Meet & Greet & Charcuterie @ 12:30 *
URL:https://goldenhearttransition.com/class/the-grieving-lotus-the-holidays/
LOCATION:Golden Heart Transition\, 606 Joseph Circle\, Golden\, CO\, 80403\, United States
ATTACH;FMTTYPE=image/png:https://goldenhearttransition.com/wp-content/uploads/2024/11/Grieving-Lotus-Holiday-FB.png
ORGANIZER;CN="Karen S Keeran":MAILTO:karenk@goldenhearttransition.com
END:VEVENT
BEGIN:VEVENT
DTSTART;TZID=America/Denver:20241201T150000
DTEND;TZID=America/Denver:20241201T163000
DTSTAMP:20260421T063256
CREATED:20241016T164710Z
LAST-MODIFIED:20241016T164710Z
UID:10000252-1733065200-1733070600@goldenhearttransition.com
SUMMARY:Golden Death Café
DESCRIPTION:Enjoy deep\, rich\, compassionate\, free and open conversations about death and dying\, \nalong with a great cup of coffee or tea & delicious fresh pastry!
URL:https://goldenhearttransition.com/class/golden-death-cafe-7/
LOCATION:Bean Fosters\, 720 Golden Ridge Rd\, Ste D\, Golden\, CO\, 80401\, United States
ATTACH;FMTTYPE=image/png:https://goldenhearttransition.com/wp-content/uploads/2024/05/Golden-Death-Cafe-FB.png
ORGANIZER;CN="Karen S Keeran":MAILTO:karenk@goldenhearttransition.com
END:VEVENT
BEGIN:VEVENT
DTSTART;TZID=America/Denver:20241116T124500
DTEND;TZID=America/Denver:20241116T161500
DTSTAMP:20260421T063256
CREATED:20241027T032834Z
LAST-MODIFIED:20241031T171259Z
UID:10000145-1731761100-1731773700@goldenhearttransition.com
SUMMARY:Grieving Lotus Workshop
DESCRIPTION:Please join us to create a Sacred Space to Honor ALL our Losses in Community!\n* Come Early for Meet & Greet & Charcuterie @ 12:30 *
URL:https://goldenhearttransition.com/class/grieving-lotus-workshop/
LOCATION:Golden Heart Transition\, 606 Joseph Circle\, Golden\, CO\, 80403\, United States
ATTACH;FMTTYPE=image/png:https://goldenhearttransition.com/wp-content/uploads/2024/10/Grieving-Lotus-FB.png
ORGANIZER;CN="Karen S Keeran":MAILTO:karenk@goldenhearttransition.com
END:VEVENT
BEGIN:VEVENT
DTSTART;TZID=America/Denver:20241103T150000
DTEND;TZID=America/Denver:20241103T163000
DTSTAMP:20260421T063256
CREATED:20240826T054128Z
LAST-MODIFIED:20240826T054128Z
UID:10000254-1730646000-1730651400@goldenhearttransition.com
SUMMARY:Golden Death Café
DESCRIPTION:Enjoy deep\, rich\, compassionate\, free and open conversations about death and dying\, \nalong with a great cup of coffee or tea & delicious fresh pastry!
URL:https://goldenhearttransition.com/class/golden-death-cafe-6/
LOCATION:Bean Fosters\, 720 Golden Ridge Rd\, Ste D\, Golden\, CO\, 80401\, United States
ATTACH;FMTTYPE=image/png:https://goldenhearttransition.com/wp-content/uploads/2024/05/Golden-Death-Cafe-FB.png
ORGANIZER;CN="Karen S Keeran":MAILTO:karenk@goldenhearttransition.com
END:VEVENT
BEGIN:VEVENT
DTSTART;TZID=America/Denver:20241011T120000
DTEND;TZID=America/Denver:20241011T130000
DTSTAMP:20260421T063256
CREATED:20240826T051740Z
LAST-MODIFIED:20240826T051740Z
UID:10000250-1728648000-1728651600@goldenhearttransition.com
SUMMARY:My Day\, Friday\, Meditation
DESCRIPTION:It’s Friday! Time to take a breath break from our busy week!\nJoin me for a restorative time of reconnecting to ourselves and our energetic source.
URL:https://goldenhearttransition.com/class/my-day-friday-meditation-99/
ATTACH;FMTTYPE=image/png:https://goldenhearttransition.com/wp-content/uploads/2022/11/Friday-Meditation.png
ORGANIZER;CN="Karen S Keeran":MAILTO:karenk@goldenhearttransition.com
LOCATION:https://us02web.zoom.us/meeting/register/tZMoce-grDIjGNE5GzDOj1eAoYvcGO8HXVap
END:VEVENT
BEGIN:VEVENT
DTSTART;TZID=America/Denver:20241006T150000
DTEND;TZID=America/Denver:20241006T163000
DTSTAMP:20260421T063256
CREATED:20240826T053659Z
LAST-MODIFIED:20240826T053659Z
UID:10000253-1728226800-1728232200@goldenhearttransition.com
SUMMARY:Golden Death Café
DESCRIPTION:Enjoy deep\, rich\, compassionate\, free and open conversations about death and dying\, \nalong with a great cup of coffee or tea & delicious fresh pastry!
URL:https://goldenhearttransition.com/class/golden-death-cafe-5/
LOCATION:Bean Fosters\, 720 Golden Ridge Rd\, Ste D\, Golden\, CO\, 80401\, United States
ATTACH;FMTTYPE=image/png:https://goldenhearttransition.com/wp-content/uploads/2024/05/Golden-Death-Cafe-FB.png
ORGANIZER;CN="Karen S Keeran":MAILTO:karenk@goldenhearttransition.com
END:VEVENT
BEGIN:VEVENT
DTSTART;TZID=America/Denver:20241004T120000
DTEND;TZID=America/Denver:20241004T130000
DTSTAMP:20260421T063256
CREATED:20240826T051413Z
LAST-MODIFIED:20240826T051413Z
UID:10000249-1728043200-1728046800@goldenhearttransition.com
SUMMARY:My Day\, Friday\, Meditation
DESCRIPTION:It’s Friday! Time to take a breath break from our busy week!\nJoin me for a restorative time of reconnecting to ourselves and our energetic source.
URL:https://goldenhearttransition.com/class/my-day-friday-meditation-98/
ATTACH;FMTTYPE=image/png:https://goldenhearttransition.com/wp-content/uploads/2022/11/Friday-Meditation.png
ORGANIZER;CN="Karen S Keeran":MAILTO:karenk@goldenhearttransition.com
LOCATION:https://us02web.zoom.us/meeting/register/tZMoce-grDIjGNE5GzDOj1eAoYvcGO8HXVap
END:VEVENT
BEGIN:VEVENT
DTSTART;TZID=America/Denver:20240927T120000
DTEND;TZID=America/Denver:20240927T130000
DTSTAMP:20260421T063256
CREATED:20240826T051013Z
LAST-MODIFIED:20240826T051013Z
UID:10000248-1727438400-1727442000@goldenhearttransition.com
SUMMARY:My Day\, Friday\, Meditation
DESCRIPTION:It’s Friday! Time to take a breath break from our busy week!\nJoin me for a restorative time of reconnecting to ourselves and our energetic source.
URL:https://goldenhearttransition.com/class/my-day-friday-meditation-97/
ATTACH;FMTTYPE=image/png:https://goldenhearttransition.com/wp-content/uploads/2022/11/Friday-Meditation.png
ORGANIZER;CN="Karen S Keeran":MAILTO:karenk@goldenhearttransition.com
LOCATION:https://us02web.zoom.us/meeting/register/tZMoce-grDIjGNE5GzDOj1eAoYvcGO8HXVap
END:VEVENT
BEGIN:VEVENT
DTSTART;TZID=America/Denver:20240920T120000
DTEND;TZID=America/Denver:20240920T130000
DTSTAMP:20260421T063256
CREATED:20240826T050459Z
LAST-MODIFIED:20240826T050459Z
UID:10000246-1726833600-1726837200@goldenhearttransition.com
SUMMARY:My Day\, Friday\, Meditation
DESCRIPTION:It’s Friday! Time to take a breath break from our busy week!\nJoin me for a restorative time of reconnecting to ourselves and our energetic source.
URL:https://goldenhearttransition.com/class/my-day-friday-meditation-96/
ATTACH;FMTTYPE=image/png:https://goldenhearttransition.com/wp-content/uploads/2022/11/Friday-Meditation.png
ORGANIZER;CN="Karen S Keeran":MAILTO:karenk@goldenhearttransition.com
LOCATION:https://us02web.zoom.us/meeting/register/tZMoce-grDIjGNE5GzDOj1eAoYvcGO8HXVap
END:VEVENT
BEGIN:VEVENT
DTSTART;TZID=America/Denver:20240913T120000
DTEND;TZID=America/Denver:20240913T130000
DTSTAMP:20260421T063256
CREATED:20240826T050057Z
LAST-MODIFIED:20240826T050544Z
UID:10000247-1726228800-1726232400@goldenhearttransition.com
SUMMARY:My Day\, Friday\, Meditation
DESCRIPTION:It’s Friday! Time to take a breath break from our busy week!\nJoin me for a restorative time of reconnecting to ourselves and our energetic source.
URL:https://goldenhearttransition.com/class/my-day-friday-meditation-95/
ATTACH;FMTTYPE=image/png:https://goldenhearttransition.com/wp-content/uploads/2022/11/Friday-Meditation.png
ORGANIZER;CN="Karen S Keeran":MAILTO:karenk@goldenhearttransition.com
LOCATION:https://us02web.zoom.us/meeting/register/tZMoce-grDIjGNE5GzDOj1eAoYvcGO8HXVap
END:VEVENT
BEGIN:VEVENT
DTSTART;TZID=America/Denver:20240906T120000
DTEND;TZID=America/Denver:20240906T130000
DTSTAMP:20260421T063256
CREATED:20240826T045652Z
LAST-MODIFIED:20240826T045652Z
UID:10000245-1725624000-1725627600@goldenhearttransition.com
SUMMARY:My Day\, Friday\, Meditation
DESCRIPTION:It’s Friday! Time to take a breath break from our busy week!\nJoin me for a restorative time of reconnecting to ourselves and our energetic source.
URL:https://goldenhearttransition.com/class/my-day-friday-meditation-94/
ATTACH;FMTTYPE=image/png:https://goldenhearttransition.com/wp-content/uploads/2022/11/Friday-Meditation.png
ORGANIZER;CN="Karen S Keeran":MAILTO:karenk@goldenhearttransition.com
LOCATION:https://us02web.zoom.us/meeting/register/tZMoce-grDIjGNE5GzDOj1eAoYvcGO8HXVap
END:VEVENT
BEGIN:VEVENT
DTSTART;TZID=America/Denver:20240901T150000
DTEND;TZID=America/Denver:20240901T163000
DTSTAMP:20260421T063256
CREATED:20240826T053313Z
LAST-MODIFIED:20240826T053313Z
UID:10000251-1725202800-1725208200@goldenhearttransition.com
SUMMARY:Golden Death Cafe
DESCRIPTION:Enjoy deep\, rich\, compassionate\, free and open conversations about death and dying\, \nalong with a great cup of coffee or tea & delicious fresh pastry!
URL:https://goldenhearttransition.com/class/golden-death-cafe-4/
LOCATION:Bean Fosters\, 720 Golden Ridge Rd\, Ste D\, Golden\, CO\, 80401\, United States
ATTACH;FMTTYPE=image/png:https://goldenhearttransition.com/wp-content/uploads/2024/05/Golden-Death-Cafe-FB.png
ORGANIZER;CN="Karen S Keeran":MAILTO:karenk@goldenhearttransition.com
END:VEVENT
BEGIN:VEVENT
DTSTART;TZID=America/Denver:20240830T120000
DTEND;TZID=America/Denver:20240830T130000
DTSTAMP:20260421T063256
CREATED:20240627T160344Z
LAST-MODIFIED:20240627T160344Z
UID:10000144-1725019200-1725022800@goldenhearttransition.com
SUMMARY:My Day\, Friday\, Meditation
DESCRIPTION:It’s Friday! Time to take a breath break from our busy week!\nJoin me for a restorative time of reconnecting to ourselves and our energetic source.
URL:https://goldenhearttransition.com/class/my-day-friday-meditation-93/
ATTACH;FMTTYPE=image/png:https://goldenhearttransition.com/wp-content/uploads/2022/11/Friday-Meditation.png
ORGANIZER;CN="Karen S Keeran":MAILTO:karenk@goldenhearttransition.com
LOCATION:https://us02web.zoom.us/meeting/register/tZMoce-grDIjGNE5GzDOj1eAoYvcGO8HXVap
END:VEVENT
BEGIN:VEVENT
DTSTART;TZID=America/Denver:20240823T120000
DTEND;TZID=America/Denver:20240823T130000
DTSTAMP:20260421T063256
CREATED:20240627T160042Z
LAST-MODIFIED:20240627T160042Z
UID:10000143-1724414400-1724418000@goldenhearttransition.com
SUMMARY:My Day\, Friday\, Meditation
DESCRIPTION:It’s Friday! Time to take a breath break from our busy week!\nJoin me for a restorative time of reconnecting to ourselves and our energetic source.
URL:https://goldenhearttransition.com/class/my-day-friday-meditation-92/
ATTACH;FMTTYPE=image/png:https://goldenhearttransition.com/wp-content/uploads/2022/11/Friday-Meditation.png
ORGANIZER;CN="Karen S Keeran":MAILTO:karenk@goldenhearttransition.com
LOCATION:https://us02web.zoom.us/meeting/register/tZMoce-grDIjGNE5GzDOj1eAoYvcGO8HXVap
END:VEVENT
BEGIN:VEVENT
DTSTART;TZID=America/Denver:20240816T120000
DTEND;TZID=America/Denver:20240816T130000
DTSTAMP:20260421T063256
CREATED:20240627T155752Z
LAST-MODIFIED:20240627T155752Z
UID:10000142-1723809600-1723813200@goldenhearttransition.com
SUMMARY:My Day\, Friday\, Meditation
DESCRIPTION:It’s Friday! Time to take a breath break from our busy week!\nJoin me for a restorative time of reconnecting to ourselves and our energetic source.
URL:https://goldenhearttransition.com/class/my-day-friday-meditation-91/
ATTACH;FMTTYPE=image/png:https://goldenhearttransition.com/wp-content/uploads/2022/11/Friday-Meditation.png
ORGANIZER;CN="Karen S Keeran":MAILTO:karenk@goldenhearttransition.com
LOCATION:https://us02web.zoom.us/meeting/register/tZMoce-grDIjGNE5GzDOj1eAoYvcGO8HXVap
END:VEVENT
BEGIN:VEVENT
DTSTART;TZID=America/Denver:20240809T120000
DTEND;TZID=America/Denver:20240809T130000
DTSTAMP:20260421T063256
CREATED:20240627T155446Z
LAST-MODIFIED:20240627T155446Z
UID:10000141-1723204800-1723208400@goldenhearttransition.com
SUMMARY:My Day\, Friday\, Meditation
DESCRIPTION:It’s Friday! Time to take a breath break from our busy week!\nJoin me for a restorative time of reconnecting to ourselves and our energetic source.
URL:https://goldenhearttransition.com/class/my-day-friday-meditation-90/
ATTACH;FMTTYPE=image/png:https://goldenhearttransition.com/wp-content/uploads/2022/11/Friday-Meditation.png
ORGANIZER;CN="Karen S Keeran":MAILTO:karenk@goldenhearttransition.com
LOCATION:https://us02web.zoom.us/meeting/register/tZMoce-grDIjGNE5GzDOj1eAoYvcGO8HXVap
END:VEVENT
BEGIN:VEVENT
DTSTART;TZID=America/Denver:20240804T150000
DTEND;TZID=America/Denver:20240804T163000
DTSTAMP:20260421T063256
CREATED:20240627T062755Z
LAST-MODIFIED:20240627T062755Z
UID:10000136-1722783600-1722789000@goldenhearttransition.com
SUMMARY:Golden Death Cafe
DESCRIPTION:Enjoy deep\, rich\, compassionate\, free and open conversations about death and dying\, \nalong with a great cup of coffee or tea & delicious fresh pastry!
URL:https://goldenhearttransition.com/class/golden-death-cafe-3/
LOCATION:Bean Fosters\, 720 Golden Ridge Rd\, Ste D\, Golden\, CO\, 80401\, United States
ATTACH;FMTTYPE=image/png:https://goldenhearttransition.com/wp-content/uploads/2024/05/Golden-Death-Cafe-FB.png
ORGANIZER;CN="Karen S Keeran":MAILTO:karenk@goldenhearttransition.com
END:VEVENT
BEGIN:VEVENT
DTSTART;TZID=America/Denver:20240802T120000
DTEND;TZID=America/Denver:20240802T130000
DTSTAMP:20260421T063256
CREATED:20240627T155106Z
LAST-MODIFIED:20240627T155106Z
UID:10000140-1722600000-1722603600@goldenhearttransition.com
SUMMARY:My Day\, Friday\, Meditation
DESCRIPTION:It’s Friday! Time to take a breath break from our busy week!\nJoin me for a restorative time of reconnecting to ourselves and our energetic source.
URL:https://goldenhearttransition.com/class/my-day-friday-meditation-89/
ATTACH;FMTTYPE=image/png:https://goldenhearttransition.com/wp-content/uploads/2022/11/Friday-Meditation.png
ORGANIZER;CN="Karen S Keeran":MAILTO:karenk@goldenhearttransition.com
LOCATION:https://us02web.zoom.us/meeting/register/tZMoce-grDIjGNE5GzDOj1eAoYvcGO8HXVap
END:VEVENT
BEGIN:VEVENT
DTSTART;TZID=America/Denver:20240726T120000
DTEND;TZID=America/Denver:20240726T130000
DTSTAMP:20260421T063256
CREATED:20240627T154558Z
LAST-MODIFIED:20240627T154558Z
UID:10000139-1721995200-1721998800@goldenhearttransition.com
SUMMARY:My Day\, Friday\, Meditation
DESCRIPTION:It’s Friday! Time to take a breath break from our busy week!\nJoin me for a restorative time of reconnecting to ourselves and our energetic source.
URL:https://goldenhearttransition.com/class/my-day-friday-meditation-88/
ATTACH;FMTTYPE=image/png:https://goldenhearttransition.com/wp-content/uploads/2022/11/Friday-Meditation.png
ORGANIZER;CN="Karen S Keeran":MAILTO:karenk@goldenhearttransition.com
LOCATION:https://us02web.zoom.us/meeting/register/tZMoce-grDIjGNE5GzDOj1eAoYvcGO8HXVap
END:VEVENT
BEGIN:VEVENT
DTSTART;TZID=America/Denver:20240719T120000
DTEND;TZID=America/Denver:20240719T130000
DTSTAMP:20260421T063256
CREATED:20240627T154242Z
LAST-MODIFIED:20240627T154242Z
UID:10000138-1721390400-1721394000@goldenhearttransition.com
SUMMARY:My Day\, Friday\, Meditation
DESCRIPTION:It’s Friday! Time to take a breath break from our busy week!\nJoin me for a restorative time of reconnecting to ourselves and our energetic source.
URL:https://goldenhearttransition.com/class/my-day-friday-meditation-87/
ATTACH;FMTTYPE=image/png:https://goldenhearttransition.com/wp-content/uploads/2022/11/Friday-Meditation.png
ORGANIZER;CN="Karen S Keeran":MAILTO:karenk@goldenhearttransition.com
LOCATION:https://us02web.zoom.us/meeting/register/tZMoce-grDIjGNE5GzDOj1eAoYvcGO8HXVap
END:VEVENT
BEGIN:VEVENT
DTSTART;TZID=America/Denver:20240712T120000
DTEND;TZID=America/Denver:20240712T130000
DTSTAMP:20260421T063256
CREATED:20240627T153926Z
LAST-MODIFIED:20240627T153926Z
UID:10000137-1720785600-1720789200@goldenhearttransition.com
SUMMARY:My Day\, Friday\, Meditation
DESCRIPTION:It’s Friday! Time to take a breath break from our busy week!\nJoin me for a restorative time of reconnecting to ourselves and our energetic source.
URL:https://goldenhearttransition.com/class/my-day-friday-meditation-86/
ATTACH;FMTTYPE=image/png:https://goldenhearttransition.com/wp-content/uploads/2022/11/Friday-Meditation.png
ORGANIZER;CN="Karen S Keeran":MAILTO:karenk@goldenhearttransition.com
LOCATION:https://us02web.zoom.us/meeting/register/tZMoce-grDIjGNE5GzDOj1eAoYvcGO8HXVap
END:VEVENT
BEGIN:VEVENT
DTSTART;TZID=America/Denver:20240707T150000
DTEND;TZID=America/Denver:20240707T163000
DTSTAMP:20260421T063256
CREATED:20240627T062100Z
LAST-MODIFIED:20240627T062240Z
UID:10000135-1720364400-1720369800@goldenhearttransition.com
SUMMARY:Golden Death Cafe
DESCRIPTION:Enjoy deep\, rich\, compassionate\, free and open conversations about death and dying\, \nalong with a great cup of coffee or tea & delicious fresh pastry!
URL:https://goldenhearttransition.com/class/golden-death-cafe-2/
LOCATION:Bean Fosters\, 720 Golden Ridge Rd\, Ste D\, Golden\, CO\, 80401\, United States
ATTACH;FMTTYPE=image/png:https://goldenhearttransition.com/wp-content/uploads/2024/05/Golden-Death-Cafe-FB.png
ORGANIZER;CN="Karen S Keeran":MAILTO:karenk@goldenhearttransition.com
END:VEVENT
BEGIN:VEVENT
DTSTART;TZID=America/Denver:20240705T120000
DTEND;TZID=America/Denver:20240705T130000
DTSTAMP:20260421T063256
CREATED:20240503T052152Z
LAST-MODIFIED:20240503T052152Z
UID:10000244-1720180800-1720184400@goldenhearttransition.com
SUMMARY:My Day\, Friday\, Meditation
DESCRIPTION:It’s Friday! Time to take a breath break from our busy week!\nJoin me for a restorative time of reconnecting to ourselves and our energetic source.
URL:https://goldenhearttransition.com/class/my-day-friday-meditation-85/
ATTACH;FMTTYPE=image/png:https://goldenhearttransition.com/wp-content/uploads/2022/11/Friday-Meditation.png
ORGANIZER;CN="Karen S Keeran":MAILTO:karenk@goldenhearttransition.com
LOCATION:https://us02web.zoom.us/meeting/register/tZMoce-grDIjGNE5GzDOj1eAoYvcGO8HXVap
END:VEVENT
BEGIN:VEVENT
DTSTART;TZID=America/Denver:20240628T120000
DTEND;TZID=America/Denver:20240628T130000
DTSTAMP:20260421T063256
CREATED:20240503T051905Z
LAST-MODIFIED:20240503T051905Z
UID:10000243-1719576000-1719579600@goldenhearttransition.com
SUMMARY:My Day\, Friday\, Meditation
DESCRIPTION:It’s Friday! Time to take a breath break from our busy week!\nJoin me for a restorative time of reconnecting to ourselves and our energetic source.
URL:https://goldenhearttransition.com/class/my-day-friday-meditation-84/
ATTACH;FMTTYPE=image/png:https://goldenhearttransition.com/wp-content/uploads/2022/11/Friday-Meditation.png
ORGANIZER;CN="Karen S Keeran":MAILTO:karenk@goldenhearttransition.com
LOCATION:https://us02web.zoom.us/meeting/register/tZMoce-grDIjGNE5GzDOj1eAoYvcGO8HXVap
END:VEVENT
BEGIN:VEVENT
DTSTART;TZID=America/Denver:20240621T120000
DTEND;TZID=America/Denver:20240621T130000
DTSTAMP:20260421T063256
CREATED:20240503T051611Z
LAST-MODIFIED:20240503T051829Z
UID:10000242-1718971200-1718974800@goldenhearttransition.com
SUMMARY:My Day\, Friday\, Meditation
DESCRIPTION:It’s Friday! Time to take a breath break from our busy week!\nJoin me for a restorative time of reconnecting to ourselves and our energetic source.
URL:https://goldenhearttransition.com/class/my-day-friday-meditation-83/
ATTACH;FMTTYPE=image/png:https://goldenhearttransition.com/wp-content/uploads/2022/11/Friday-Meditation.png
ORGANIZER;CN="Karen S Keeran":MAILTO:karenk@goldenhearttransition.com
LOCATION:https://us02web.zoom.us/meeting/register/tZMoce-grDIjGNE5GzDOj1eAoYvcGO8HXVap
END:VEVENT
END:VCALENDAR