BEGIN:VCALENDAR
VERSION:2.0
PRODID:-//Golden Heart Transition - ECPv6.15.20//NONSGML v1.0//EN
CALSCALE:GREGORIAN
METHOD:PUBLISH
X-ORIGINAL-URL:https://goldenhearttransition.com
X-WR-CALDESC:Events for Golden Heart Transition
REFRESH-INTERVAL;VALUE=DURATION:PT1H
X-Robots-Tag:noindex
X-PUBLISHED-TTL:PT1H
BEGIN:VTIMEZONE
TZID:America/Denver
BEGIN:DAYLIGHT
TZOFFSETFROM:-0700
TZOFFSETTO:-0600
TZNAME:MDT
DTSTART:20240310T090000
END:DAYLIGHT
BEGIN:STANDARD
TZOFFSETFROM:-0600
TZOFFSETTO:-0700
TZNAME:MST
DTSTART:20241103T080000
END:STANDARD
BEGIN:DAYLIGHT
TZOFFSETFROM:-0700
TZOFFSETTO:-0600
TZNAME:MDT
DTSTART:20250309T090000
END:DAYLIGHT
BEGIN:STANDARD
TZOFFSETFROM:-0600
TZOFFSETTO:-0700
TZNAME:MST
DTSTART:20251102T080000
END:STANDARD
BEGIN:DAYLIGHT
TZOFFSETFROM:-0700
TZOFFSETTO:-0600
TZNAME:MDT
DTSTART:20260308T090000
END:DAYLIGHT
BEGIN:STANDARD
TZOFFSETFROM:-0600
TZOFFSETTO:-0700
TZNAME:MST
DTSTART:20261101T080000
END:STANDARD
BEGIN:DAYLIGHT
TZOFFSETFROM:-0700
TZOFFSETTO:-0600
TZNAME:MDT
DTSTART:20270314T090000
END:DAYLIGHT
BEGIN:STANDARD
TZOFFSETFROM:-0600
TZOFFSETTO:-0700
TZNAME:MST
DTSTART:20271107T080000
END:STANDARD
END:VTIMEZONE
BEGIN:VEVENT
DTSTART;VALUE=DATE:20260101
DTEND;VALUE=DATE:20260102
DTSTAMP:20260421T075137
CREATED:20220809T043519Z
LAST-MODIFIED:20220809T043858Z
UID:10000197-1767225600-1767311999@goldenhearttransition.com
SUMMARY:New Year's Day
DESCRIPTION:
URL:https://goldenhearttransition.com/class/new-years-day-2/2026-01-01/
LOCATION:CO
ORGANIZER;CN="Karen S Keeran":MAILTO:karenk@goldenhearttransition.com
END:VEVENT
BEGIN:VEVENT
DTSTART;VALUE=DATE:20251225
DTEND;VALUE=DATE:20251226
DTSTAMP:20260421T075137
CREATED:20220809T043350Z
LAST-MODIFIED:20220809T044920Z
UID:10000191-1766620800-1766707199@goldenhearttransition.com
SUMMARY:Christmas Day
DESCRIPTION:
URL:https://goldenhearttransition.com/class/christmas-day/2025-12-25/
LOCATION:CO
ORGANIZER;CN="Karen S Keeran":MAILTO:karenk@goldenhearttransition.com
END:VEVENT
BEGIN:VEVENT
DTSTART;TZID=America/Denver:20251221T150000
DTEND;TZID=America/Denver:20251221T163000
DTSTAMP:20260421T075137
CREATED:20250626T161039Z
LAST-MODIFIED:20250626T161039Z
UID:10000158-1766329200-1766334600@goldenhearttransition.com
SUMMARY:Wheat Ridge Death Café
DESCRIPTION:Enjoy deep\, rich\, compassionate\, free and open conversations about death and dying\, \nalong with a hot cup of coffee or tea & snacks!
URL:https://goldenhearttransition.com/class/wheat-ridge-death-cafe-10/
LOCATION:Be A Tree\, 3720 Pierce St\, Wheat Ridge\, CO\, 80033\, United States
ATTACH;FMTTYPE=image/png:https://goldenhearttransition.com/wp-content/uploads/2025/05/LandscapeOrgBckgrnd-no-blurb_Every3rdSunday_940x788.png
ORGANIZER;CN="Karen S Keeran":MAILTO:karenk@goldenhearttransition.com
END:VEVENT
BEGIN:VEVENT
DTSTART;TZID=America/Denver:20251207T150000
DTEND;TZID=America/Denver:20251207T163000
DTSTAMP:20260421T075137
CREATED:20250626T154940Z
LAST-MODIFIED:20250626T161352Z
UID:10000156-1765119600-1765125000@goldenhearttransition.com
SUMMARY:Golden Death Café
DESCRIPTION:Enjoy deep\, rich\, compassionate\, free and open conversations about death and dying\, \nalong with a hot cup of coffee or tea & snacks!
URL:https://goldenhearttransition.com/class/golden-death-cafe-19/
LOCATION:Bean Fosters\, 720 Golden Ridge Rd\, Ste D\, Golden\, CO\, 80401\, United States
ATTACH;FMTTYPE=image/png:https://goldenhearttransition.com/wp-content/uploads/2024/05/Golden-Death-Cafe-FB.png
ORGANIZER;CN="Karen S Keeran":MAILTO:karenk@goldenhearttransition.com
END:VEVENT
BEGIN:VEVENT
DTSTART;VALUE=DATE:20251127
DTEND;VALUE=DATE:20251128
DTSTAMP:20260421T075137
CREATED:20220809T043311Z
LAST-MODIFIED:20220809T045053Z
UID:10000186-1764201600-1764287999@goldenhearttransition.com
SUMMARY:Thanksgiving Day
DESCRIPTION:
URL:https://goldenhearttransition.com/class/thanksgiving-day/2025-11-27/
LOCATION:CO
ORGANIZER;CN="Karen S Keeran":MAILTO:karenk@goldenhearttransition.com
END:VEVENT
BEGIN:VEVENT
DTSTART;TZID=America/Denver:20251122T123000
DTEND;TZID=America/Denver:20251122T163000
DTSTAMP:20260421T075137
CREATED:20251001T162037Z
LAST-MODIFIED:20251121T180333Z
UID:10000286-1763814600-1763829000@goldenhearttransition.com
SUMMARY:Grieving Lotus Workshop
DESCRIPTION:Please join us to create a Sacred Space of Honor & Connection in Community!\n* Come for Meet & Greet & Charcuterie @ 12:30. Program starts @ 1:00 *
URL:https://goldenhearttransition.com/class/grieving-lotus-workshop-3/
LOCATION:Golden Heart Transition\, 606 Joseph Circle\, Golden\, CO\, 80403\, United States
ATTACH;FMTTYPE=image/png:https://goldenhearttransition.com/wp-content/uploads/2024/10/Grieving-Lotus-FB.png
ORGANIZER;CN="Karen S Keeran":MAILTO:karenk@goldenhearttransition.com
END:VEVENT
BEGIN:VEVENT
DTSTART;TZID=America/Denver:20251116T150000
DTEND;TZID=America/Denver:20251116T163000
DTSTAMP:20260421T075137
CREATED:20250626T161129Z
LAST-MODIFIED:20250626T161129Z
UID:10000159-1763305200-1763310600@goldenhearttransition.com
SUMMARY:Wheat Ridge Death Café
DESCRIPTION:Enjoy deep\, rich\, compassionate\, free and open conversations about death and dying\, \nalong with a hot cup of coffee or tea & snacks!
URL:https://goldenhearttransition.com/class/wheat-ridge-death-cafe-11/
LOCATION:Be A Tree\, 3720 Pierce St\, Wheat Ridge\, CO\, 80033\, United States
ATTACH;FMTTYPE=image/png:https://goldenhearttransition.com/wp-content/uploads/2025/05/LandscapeOrgBckgrnd-no-blurb_Every3rdSunday_940x788.png
ORGANIZER;CN="Karen S Keeran":MAILTO:karenk@goldenhearttransition.com
END:VEVENT
BEGIN:VEVENT
DTSTART;TZID=America/Denver:20251102T150000
DTEND;TZID=America/Denver:20251102T163000
DTSTAMP:20260421T075137
CREATED:20250626T154705Z
LAST-MODIFIED:20250626T155033Z
UID:10000155-1762095600-1762101000@goldenhearttransition.com
SUMMARY:Golden Death Café
DESCRIPTION:Enjoy deep\, rich\, compassionate\, free and open conversations about death and dying\, \nalong with a hot cup of coffee or tea & snacks!
URL:https://goldenhearttransition.com/class/golden-death-cafe-18/
LOCATION:Bean Fosters\, 720 Golden Ridge Rd\, Ste D\, Golden\, CO\, 80401\, United States
ATTACH;FMTTYPE=image/png:https://goldenhearttransition.com/wp-content/uploads/2024/05/Golden-Death-Cafe-FB.png
ORGANIZER;CN="Karen S Keeran":MAILTO:karenk@goldenhearttransition.com
END:VEVENT
BEGIN:VEVENT
DTSTART;TZID=America/Denver:20251019T150000
DTEND;TZID=America/Denver:20251019T163000
DTSTAMP:20260421T075137
CREATED:20250626T160353Z
LAST-MODIFIED:20250626T160353Z
UID:10000157-1760886000-1760891400@goldenhearttransition.com
SUMMARY:Wheat Ridge Death Café
DESCRIPTION:Enjoy deep\, rich\, compassionate\, free and open conversations about death and dying\, \nalong with a hot cup of coffee or tea & snacks!
URL:https://goldenhearttransition.com/class/wheat-ridge-death-cafe-9/
LOCATION:Be A Tree\, 3720 Pierce St\, Wheat Ridge\, CO\, 80033\, United States
ATTACH;FMTTYPE=image/png:https://goldenhearttransition.com/wp-content/uploads/2025/05/LandscapeOrgBckgrnd-no-blurb_Every3rdSunday_940x788.png
ORGANIZER;CN="Karen S Keeran":MAILTO:karenk@goldenhearttransition.com
END:VEVENT
BEGIN:VEVENT
DTSTART;TZID=America/Denver:20251005T150000
DTEND;TZID=America/Denver:20251005T163000
DTSTAMP:20260421T075137
CREATED:20250626T154439Z
LAST-MODIFIED:20250626T154439Z
UID:10000264-1759676400-1759681800@goldenhearttransition.com
SUMMARY:Golden Death Café
DESCRIPTION:Enjoy deep\, rich\, compassionate\, free and open conversations about death and dying\, \nalong with a hot cup of coffee or tea & snacks!
URL:https://goldenhearttransition.com/class/golden-death-cafe-17/
LOCATION:Bean Fosters\, 720 Golden Ridge Rd\, Ste D\, Golden\, CO\, 80401\, United States
ATTACH;FMTTYPE=image/png:https://goldenhearttransition.com/wp-content/uploads/2024/05/Golden-Death-Cafe-FB.png
ORGANIZER;CN="Karen S Keeran":MAILTO:karenk@goldenhearttransition.com
END:VEVENT
BEGIN:VEVENT
DTSTART;TZID=America/Denver:20250921T150000
DTEND;TZID=America/Denver:20250921T163000
DTSTAMP:20260421T075137
CREATED:20250525T232732Z
LAST-MODIFIED:20250525T232732Z
UID:10000260-1758466800-1758472200@goldenhearttransition.com
SUMMARY:Wheat Ridge Death Café
DESCRIPTION:Enjoy deep\, rich\, compassionate\, free and open conversations about death and dying\, \nalong with a hot cup of coffee or tea & snacks!
URL:https://goldenhearttransition.com/class/wheat-ridge-death-cafe-8/
LOCATION:Be A Tree\, 3720 Pierce St\, Wheat Ridge\, CO\, 80033\, United States
ATTACH;FMTTYPE=image/png:https://goldenhearttransition.com/wp-content/uploads/2025/05/LandscapeOrgBckgrnd-no-blurb_Every3rdSunday_940x788.png
ORGANIZER;CN="Karen S Keeran":MAILTO:karenk@goldenhearttransition.com
END:VEVENT
BEGIN:VEVENT
DTSTART;TZID=America/Denver:20250907T150000
DTEND;TZID=America/Denver:20250907T163000
DTSTAMP:20260421T075137
CREATED:20250526T000601Z
LAST-MODIFIED:20250526T000601Z
UID:10000263-1757257200-1757262600@goldenhearttransition.com
SUMMARY:Golden Death Café
DESCRIPTION:Enjoy deep\, rich\, compassionate\, free and open conversations about death and dying\, \nalong with a hot cup of coffee or tea & snacks!
URL:https://goldenhearttransition.com/class/golden-death-cafe-16/
LOCATION:Bean Fosters\, 720 Golden Ridge Rd\, Ste D\, Golden\, CO\, 80401\, United States
ATTACH;FMTTYPE=image/png:https://goldenhearttransition.com/wp-content/uploads/2024/05/Golden-Death-Cafe-FB.png
ORGANIZER;CN="Karen S Keeran":MAILTO:karenk@goldenhearttransition.com
END:VEVENT
BEGIN:VEVENT
DTSTART;VALUE=DATE:20250901
DTEND;VALUE=DATE:20250902
DTSTAMP:20260421T075137
CREATED:20220809T042909Z
LAST-MODIFIED:20220809T044548Z
UID:10000168-1756684800-1756771199@goldenhearttransition.com
SUMMARY:Labor Day
DESCRIPTION:
URL:https://goldenhearttransition.com/class/labor-day/2025-09-01/
LOCATION:CO
ORGANIZER;CN="Karen S Keeran":MAILTO:karenk@goldenhearttransition.com
END:VEVENT
BEGIN:VEVENT
DTSTART;TZID=America/Denver:20250817T150000
DTEND;TZID=America/Denver:20250817T163000
DTSTAMP:20260421T075137
CREATED:20250525T232450Z
LAST-MODIFIED:20250525T232450Z
UID:10000259-1755442800-1755448200@goldenhearttransition.com
SUMMARY:Wheat Ridge Death Café
DESCRIPTION:Enjoy deep\, rich\, compassionate\, free and open conversations about death and dying\, \nalong with a hot cup of coffee or tea & snacks!
URL:https://goldenhearttransition.com/class/wheat-ridge-death-cafe-7/
LOCATION:Be A Tree\, 3720 Pierce St\, Wheat Ridge\, CO\, 80033\, United States
ATTACH;FMTTYPE=image/png:https://goldenhearttransition.com/wp-content/uploads/2025/05/LandscapeOrgBckgrnd-no-blurb_Every3rdSunday_940x788.png
ORGANIZER;CN="Karen S Keeran":MAILTO:karenk@goldenhearttransition.com
END:VEVENT
BEGIN:VEVENT
DTSTART;TZID=America/Denver:20250803T150000
DTEND;TZID=America/Denver:20250803T163000
DTSTAMP:20260421T075137
CREATED:20250526T000258Z
LAST-MODIFIED:20250526T000258Z
UID:10000262-1754233200-1754238600@goldenhearttransition.com
SUMMARY:Golden Death Café
DESCRIPTION:Enjoy deep\, rich\, compassionate\, free and open conversations about death and dying\, \nalong with a hot cup of coffee or tea & snacks!
URL:https://goldenhearttransition.com/class/golden-death-cafe-15/
LOCATION:Bean Fosters\, 720 Golden Ridge Rd\, Ste D\, Golden\, CO\, 80401\, United States
ATTACH;FMTTYPE=image/png:https://goldenhearttransition.com/wp-content/uploads/2024/05/Golden-Death-Cafe-FB.png
ORGANIZER;CN="Karen S Keeran":MAILTO:karenk@goldenhearttransition.com
END:VEVENT
BEGIN:VEVENT
DTSTART;TZID=America/Denver:20250720T150000
DTEND;TZID=America/Denver:20250720T163000
DTSTAMP:20260421T075137
CREATED:20250525T232202Z
LAST-MODIFIED:20250525T232202Z
UID:10000258-1753023600-1753029000@goldenhearttransition.com
SUMMARY:Wheat Ridge Death Café
DESCRIPTION:Enjoy deep\, rich\, compassionate\, free and open conversations about death and dying\, \nalong with a hot cup of coffee or tea & snacks!
URL:https://goldenhearttransition.com/class/wheat-ridge-death-cafe-6/
LOCATION:Be A Tree\, 3720 Pierce St\, Wheat Ridge\, CO\, 80033\, United States
ATTACH;FMTTYPE=image/png:https://goldenhearttransition.com/wp-content/uploads/2025/05/LandscapeOrgBckgrnd-no-blurb_Every3rdSunday_940x788.png
ORGANIZER;CN="Karen S Keeran":MAILTO:karenk@goldenhearttransition.com
END:VEVENT
BEGIN:VEVENT
DTSTART;TZID=America/Denver:20250706T150000
DTEND;TZID=America/Denver:20250706T163000
DTSTAMP:20260421T075137
CREATED:20250525T232954Z
LAST-MODIFIED:20250525T232954Z
UID:10000261-1751814000-1751819400@goldenhearttransition.com
SUMMARY:Golden Death Café
DESCRIPTION:Enjoy deep\, rich\, compassionate\, free and open conversations about death and dying\, \nalong with a hot cup of coffee or tea & snacks!
URL:https://goldenhearttransition.com/class/golden-death-cafe-14/
LOCATION:Bean Fosters\, 720 Golden Ridge Rd\, Ste D\, Golden\, CO\, 80401\, United States
ATTACH;FMTTYPE=image/png:https://goldenhearttransition.com/wp-content/uploads/2024/05/Golden-Death-Cafe-FB.png
ORGANIZER;CN="Karen S Keeran":MAILTO:karenk@goldenhearttransition.com
END:VEVENT
BEGIN:VEVENT
DTSTART;VALUE=DATE:20250704
DTEND;VALUE=DATE:20250705
DTSTAMP:20260421T075137
CREATED:20220809T043110Z
LAST-MODIFIED:20220809T044804Z
UID:10000174-1751587200-1751673599@goldenhearttransition.com
SUMMARY:Independence Day
DESCRIPTION:
URL:https://goldenhearttransition.com/class/independence-day/2025-07-04/
LOCATION:CO
ORGANIZER;CN="Karen S Keeran":MAILTO:karenk@goldenhearttransition.com
END:VEVENT
BEGIN:VEVENT
DTSTART;TZID=America/Denver:20250615T150000
DTEND;TZID=America/Denver:20250615T163000
DTSTAMP:20260421T075137
CREATED:20250525T231707Z
LAST-MODIFIED:20250525T232234Z
UID:10000257-1749999600-1750005000@goldenhearttransition.com
SUMMARY:Wheat Ridge Death Café
DESCRIPTION:Enjoy deep\, rich\, compassionate\, free and open conversations about death and dying\, \nalong with a hot cup of coffee or tea & snacks!
URL:https://goldenhearttransition.com/class/wheat-ridge-death-cafe-5/
LOCATION:Be A Tree\, 3720 Pierce St\, Wheat Ridge\, CO\, 80033\, United States
ATTACH;FMTTYPE=image/png:https://goldenhearttransition.com/wp-content/uploads/2025/05/LandscapeOrgBckgrnd-no-blurb_Every3rdSunday_940x788.png
ORGANIZER;CN="Karen S Keeran":MAILTO:karenk@goldenhearttransition.com
END:VEVENT
BEGIN:VEVENT
DTSTART;TZID=America/Denver:20250601T150000
DTEND;TZID=America/Denver:20250601T163000
DTSTAMP:20260421T075137
CREATED:20250209T023832Z
LAST-MODIFIED:20250209T023832Z
UID:10000153-1748790000-1748795400@goldenhearttransition.com
SUMMARY:Golden Death Café
DESCRIPTION:Enjoy deep\, rich\, compassionate\, free and open conversations about death and dying\, \nalong with a great cup of coffee or tea & delicious fresh pastry!
URL:https://goldenhearttransition.com/class/golden-death-cafe-13/
LOCATION:Bean Fosters\, 720 Golden Ridge Rd\, Ste D\, Golden\, CO\, 80401\, United States
ATTACH;FMTTYPE=image/png:https://goldenhearttransition.com/wp-content/uploads/2024/05/Golden-Death-Cafe-FB.png
ORGANIZER;CN="Karen S Keeran":MAILTO:karenk@goldenhearttransition.com
END:VEVENT
BEGIN:VEVENT
DTSTART;VALUE=DATE:20250526
DTEND;VALUE=DATE:20250527
DTSTAMP:20260421T075137
CREATED:20220809T043157Z
LAST-MODIFIED:20220809T044720Z
UID:10000180-1748217600-1748303999@goldenhearttransition.com
SUMMARY:Memorial Day
DESCRIPTION:
URL:https://goldenhearttransition.com/class/memorial-day/2025-05-26/
LOCATION:CO
ORGANIZER;CN="Karen S Keeran":MAILTO:karenk@goldenhearttransition.com
END:VEVENT
BEGIN:VEVENT
DTSTART;TZID=America/Denver:20250518T150000
DTEND;TZID=America/Denver:20250518T163000
DTSTAMP:20260421T075137
CREATED:20250525T231358Z
LAST-MODIFIED:20250525T231747Z
UID:10000256-1747580400-1747585800@goldenhearttransition.com
SUMMARY:Wheat Ridge Death Café
DESCRIPTION:Enjoy deep\, rich\, compassionate\, free and open conversations about death and dying\, \nalong with a hot cup of coffee or tea & snacks!
URL:https://goldenhearttransition.com/class/wheat-ridge-death-cafe-4/
LOCATION:CO
ATTACH;FMTTYPE=image/png:https://goldenhearttransition.com/wp-content/uploads/2025/05/LandscapeOrgBckgrnd-no-blurb_Every3rdSunday_940x788.png
ORGANIZER;CN="Karen S Keeran":MAILTO:karenk@goldenhearttransition.com
END:VEVENT
BEGIN:VEVENT
DTSTART;TZID=America/Denver:20250504T150000
DTEND;TZID=America/Denver:20250504T163000
DTSTAMP:20260421T075137
CREATED:20250209T023414Z
LAST-MODIFIED:20250209T023414Z
UID:10000152-1746370800-1746376200@goldenhearttransition.com
SUMMARY:Golden Death Café
DESCRIPTION:Enjoy deep\, rich\, compassionate\, free and open conversations about death and dying\, \nalong with a great cup of coffee or tea & delicious fresh pastry!
URL:https://goldenhearttransition.com/class/golden-death-cafe-12/
LOCATION:Bean Fosters\, 720 Golden Ridge Rd\, Ste D\, Golden\, CO\, 80401\, United States
ATTACH;FMTTYPE=image/png:https://goldenhearttransition.com/wp-content/uploads/2024/05/Golden-Death-Cafe-FB.png
ORGANIZER;CN="Karen S Keeran":MAILTO:karenk@goldenhearttransition.com
END:VEVENT
BEGIN:VEVENT
DTSTART;TZID=America/Denver:20250420T150000
DTEND;TZID=America/Denver:20250420T163000
DTSTAMP:20260421T075137
CREATED:20250525T230618Z
LAST-MODIFIED:20250525T231822Z
UID:10000154-1745161200-1745166600@goldenhearttransition.com
SUMMARY:Wheat Ridge Death Café
DESCRIPTION:Enjoy deep\, rich\, compassionate\, free and open conversations about death and dying\, \nalong with a hot cup of coffee or tea & snacks!
URL:https://goldenhearttransition.com/class/wheat-ridge-death-cafe-2/
LOCATION:Be A Tree\, 3720 Pierce St\, Wheat Ridge\, CO\, 80033\, United States
ATTACH;FMTTYPE=image/png:https://goldenhearttransition.com/wp-content/uploads/2025/05/LandscapeOrgBckgrnd-no-blurb_Every3rdSunday_940x788.png
ORGANIZER;CN="Karen S Keeran":MAILTO:karenk@goldenhearttransition.com
END:VEVENT
BEGIN:VEVENT
DTSTART;TZID=America/Denver:20250406T150000
DTEND;TZID=America/Denver:20250406T163000
DTSTAMP:20260421T075137
CREATED:20250209T023133Z
LAST-MODIFIED:20250209T023133Z
UID:10000151-1743951600-1743957000@goldenhearttransition.com
SUMMARY:Golden Death Café
DESCRIPTION:Enjoy deep\, rich\, compassionate\, free and open conversations about death and dying\, \nalong with a great cup of coffee or tea & delicious fresh pastry!
URL:https://goldenhearttransition.com/class/golden-death-cafe-11/
LOCATION:Bean Fosters\, 720 Golden Ridge Rd\, Ste D\, Golden\, CO\, 80401\, United States
ATTACH;FMTTYPE=image/png:https://goldenhearttransition.com/wp-content/uploads/2024/05/Golden-Death-Cafe-FB.png
ORGANIZER;CN="Karen S Keeran":MAILTO:karenk@goldenhearttransition.com
END:VEVENT
BEGIN:VEVENT
DTSTART;TZID=America/Denver:20250316T150000
DTEND;TZID=America/Denver:20250316T163000
DTSTAMP:20260421T075137
CREATED:20250525T231154Z
LAST-MODIFIED:20250525T231901Z
UID:10000255-1742137200-1742142600@goldenhearttransition.com
SUMMARY:Wheat Ridge Death Café
DESCRIPTION:Enjoy deep\, rich\, compassionate\, free and open conversations about death and dying\, \nalong with a hot cup of coffee or tea & snacks!
URL:https://goldenhearttransition.com/class/wheat-ridge-death-cafe-3/
LOCATION:Be A Tree\, 3720 Pierce St\, Wheat Ridge\, CO\, 80033\, United States
ATTACH;FMTTYPE=image/png:https://goldenhearttransition.com/wp-content/uploads/2025/05/LandscapeOrgBckgrnd-no-blurb_Every3rdSunday_940x788.png
ORGANIZER;CN="Karen S Keeran":MAILTO:karenk@goldenhearttransition.com
END:VEVENT
BEGIN:VEVENT
DTSTART;TZID=America/Denver:20250302T150000
DTEND;TZID=America/Denver:20250302T163000
DTSTAMP:20260421T075137
CREATED:20241224T071719Z
LAST-MODIFIED:20241224T071719Z
UID:10000149-1740927600-1740933000@goldenhearttransition.com
SUMMARY:Golden Death Café
DESCRIPTION:Enjoy deep\, rich\, compassionate\, free and open conversations about death and dying\, \nalong with a great cup of coffee or tea & delicious fresh pastry!
URL:https://goldenhearttransition.com/class/golden-death-cafe-10/
LOCATION:Bean Fosters\, 720 Golden Ridge Rd\, Ste D\, Golden\, CO\, 80401\, United States
ATTACH;FMTTYPE=image/png:https://goldenhearttransition.com/wp-content/uploads/2024/05/Golden-Death-Cafe-FB.png
ORGANIZER;CN="Karen S Keeran":MAILTO:karenk@goldenhearttransition.com
END:VEVENT
BEGIN:VEVENT
DTSTART;TZID=America/Denver:20250223T150000
DTEND;TZID=America/Denver:20250223T163000
DTSTAMP:20260421T075137
CREATED:20250209T022139Z
LAST-MODIFIED:20250209T022139Z
UID:10000150-1740322800-1740328200@goldenhearttransition.com
SUMMARY:Wheat Ridge Death Café
DESCRIPTION:Enjoy deep\, rich\, compassionate\, free and open conversations about death and dying\, \nalong with a hot cup of coffee or tea & snacks!
URL:https://goldenhearttransition.com/class/wheat-ridge-death-cafe/
LOCATION:Be A Tree\, 3720 Pierce St\, Wheat Ridge\, CO\, 80033\, United States
ATTACH;FMTTYPE=image/png:https://goldenhearttransition.com/wp-content/uploads/2025/02/WRDC-Landscape.png
END:VEVENT
BEGIN:VEVENT
DTSTART;TZID=America/Denver:20250202T150000
DTEND;TZID=America/Denver:20250202T163000
DTSTAMP:20260421T075137
CREATED:20241224T071309Z
LAST-MODIFIED:20241224T071309Z
UID:10000148-1738508400-1738513800@goldenhearttransition.com
SUMMARY:Golden Death Café
DESCRIPTION:Enjoy deep\, rich\, compassionate\, free and open conversations about death and dying\, \nalong with a great cup of coffee or tea & delicious fresh pastry!
URL:https://goldenhearttransition.com/class/golden-death-cafe-9/
LOCATION:Bean Fosters\, 720 Golden Ridge Rd\, Ste D\, Golden\, CO\, 80401\, United States
ATTACH;FMTTYPE=image/png:https://goldenhearttransition.com/wp-content/uploads/2024/05/Golden-Death-Cafe-FB.png
ORGANIZER;CN="Karen S Keeran":MAILTO:karenk@goldenhearttransition.com
END:VEVENT
BEGIN:VEVENT
DTSTART;TZID=America/Denver:20250105T150000
DTEND;TZID=America/Denver:20250105T163000
DTSTAMP:20260421T075137
CREATED:20241224T070419Z
LAST-MODIFIED:20241224T070419Z
UID:10000147-1736089200-1736094600@goldenhearttransition.com
SUMMARY:Golden Death Café
DESCRIPTION:Enjoy deep\, rich\, compassionate\, free and open conversations about death and dying\, \nalong with a great cup of coffee or tea & delicious fresh pastry!
URL:https://goldenhearttransition.com/class/golden-death-cafe-8/
LOCATION:Bean Fosters\, 720 Golden Ridge Rd\, Ste D\, Golden\, CO\, 80401\, United States
ATTACH;FMTTYPE=image/png:https://goldenhearttransition.com/wp-content/uploads/2024/05/Golden-Death-Cafe-FB.png
ORGANIZER;CN="Karen S Keeran":MAILTO:karenk@goldenhearttransition.com
END:VEVENT
END:VCALENDAR